BEGIN:VCALENDAR
PRODID:-//eluceo/ical//2.0/EN
VERSION:2.0
CALSCALE:GREGORIAN
BEGIN:VEVENT
UID:ff7cc01139c408d4b8b380e860d80264
DTSTAMP:20260425T182432Z
SUMMARY:Chefs For Peace
DESCRIPTION:UJA Federation of Greater Toronto\nJewish Toronto Calendar\nhtt
 ps://jewishtoronto.com/calendar/chefs-for-peace\n\nChefs For Peace
DTSTART;TZID=America/Toronto:20140601T180000
DTEND;TZID=America/Toronto:20140602T223000
END:VEVENT
END:VCALENDAR
