BEGIN:VCALENDAR
PRODID:-//eluceo/ical//2.0/EN
VERSION:2.0
CALSCALE:GREGORIAN
BEGIN:VEVENT
UID:342f893fba6e13096122e6f738999f74
DTSTAMP:20260425T214735Z
SUMMARY:Charity Law Seminar for Community Organizations
DESCRIPTION:UJA Federation of Greater Toronto\nJewish Toronto Calendar\nhtt
 ps://jewishtoronto.com/calendar/charity-law-seminar-for-community-organiza
 tions\n\nProgramme for Charity Law Seminar for community organizations \n\
 n\n\n 
DTSTART;TZID=America/Toronto:20150302T083000
DTEND;TZID=America/Toronto:20150302T140000
END:VEVENT
END:VCALENDAR
