BEGIN:VCALENDAR
PRODID:-//eluceo/ical//2.0/EN
VERSION:2.0
CALSCALE:GREGORIAN
BEGIN:VEVENT
UID:50f234d2b116bcaad9c89dfd3c9ce7c8
DTSTAMP:20260420T021002Z
SUMMARY:Chanukah Family Groove
DESCRIPTION:UJA Federation of Greater Toronto\nJewish Toronto Calendar\nhtt
 ps://jewishtoronto.com/calendar/chanukah-family-groove\n\n$5/person (babes
  in arms are free)\nLight up the day with an interactive\, entertaining co
 mmunity Chanukah celebration. For ages 0-10.
DTSTART;TZID=America/Toronto:20161211T100000
DTEND;TZID=America/Toronto:20161211T130000
END:VEVENT
END:VCALENDAR
