BEGIN:VCALENDAR
PRODID:-//eluceo/ical//2.0/EN
VERSION:2.0
CALSCALE:GREGORIAN
BEGIN:VEVENT
UID:b83d82c25532afdc834f2d9b60532e4a
DTSTAMP:20260424T110633Z
SUMMARY:Chanukah Chessed Celebration
DESCRIPTION:UJA Federation of Greater Toronto\nJewish Toronto Calendar\nhtt
 ps://jewishtoronto.com/calendar/chanukah-chessed-celebration-1764107722\n\
 nCost: $10/child plus a donated item or $12/child with no item.  Suggested
  donatable items: A non-perishable food for the Beth Sholom Food Bank\, Wi
 nter gear and warm clothing for Ve'ahavta\, Unwrapped toys for Chai Lifeli
 ne. You can also bring  PJ Library books that your family no longer needs\
 ; as we be re-packaging them for kits to deliver to local public school
DTSTART;TZID=America/Toronto:20251207T140000
DTEND;TZID=America/Toronto:20251207T160000
END:VEVENT
END:VCALENDAR
