BEGIN:VCALENDAR
PRODID:-//eluceo/ical//2.0/EN
VERSION:2.0
CALSCALE:GREGORIAN
BEGIN:VEVENT
UID:0db9e6381961f79ce66944a8982396f0
DTSTAMP:20260425T193346Z
SUMMARY:Chanukah celebration in the Beach
DESCRIPTION:UJA Federation of Greater Toronto\nJewish Toronto Calendar\nhtt
 ps://jewishtoronto.com/calendar/chanukah-celebration-in-the-beach-14489932
 06\n\nThe Beach Hebrew Institute (Beaches Synagogue) and the Chabad of Dan
 forth-Beaches invites the community to come and celebrate Chanukah. Join u
 s at Kew Gardens on Saturday\, December 12\, 2015\, at 6:30 P.M. for the p
 ublic lighting of the community menorah in the park\, followed by our trad
 itional music\, latkes and jelly donuts at the Beach Hebrew Institute\, 10
 9 Kenilworth Avenue\, Toronto. Bring your menorah and candles to the synag
 ogue as we celebrate the seventh night of Chanukah together....
DTSTART;TZID=America/Toronto:20151212T183000
DTEND;TZID=America/Toronto:20151212T203000
END:VEVENT
END:VCALENDAR
