BEGIN:VCALENDAR
PRODID:-//eluceo/ical//2.0/EN
VERSION:2.0
CALSCALE:GREGORIAN
BEGIN:VEVENT
UID:78cc2f216e19dde6ce5cac57de85b642
DTSTAMP:20260422T232822Z
SUMMARY:Challah Making for KIDS 
DESCRIPTION:UJA Federation of Greater Toronto\nJewish Toronto Calendar\nhtt
 ps://jewishtoronto.com/calendar/challah-making-for-kids\n\nFor kids of all
  ages- come learn to braid your own Challah!
DTSTART;TZID=America/Toronto:20150118T110000
DTEND;TZID=America/Toronto:20150118T130000
END:VEVENT
END:VCALENDAR
