BEGIN:VCALENDAR
PRODID:-//eluceo/ical//2.0/EN
VERSION:2.0
CALSCALE:GREGORIAN
BEGIN:VEVENT
UID:56887a417a411cdb4ba03bef55a3c6bc
DTSTAMP:20260421T193438Z
SUMMARY:TanenbaumCHAT Challah Bake
DESCRIPTION:UJA Federation of Greater Toronto\nJewish Toronto Calendar\nhtt
 ps://jewishtoronto.com/calendar/challah-bake-1730836576\n\nLet's bake chal
 lah!
DTSTART;TZID=America/Toronto:20250123T190000
DTEND;TZID=America/Toronto:20250123T213000
END:VEVENT
END:VCALENDAR
