BEGIN:VCALENDAR
PRODID:-//eluceo/ical//2.0/EN
VERSION:2.0
CALSCALE:GREGORIAN
BEGIN:VEVENT
UID:5d6361c14d9bc800b2bbb7e6340064fa
DTSTAMP:20260425T143554Z
SUMMARY:Challah Bake - TanenbaumCHAT
DESCRIPTION:UJA Federation of Greater Toronto\nJewish Toronto Calendar\nhtt
 ps://jewishtoronto.com/calendar/challah-bake---tanenbaumchat-1703104178\n\
 nWhether you're a seasoned pro or a first-time baker\, we invite you to sh
 are in the joy of uniting as a community and creating delicious challahs t
 ogether. Bring your stories\, laughter\, and an eagerness to knead and bra
 id as we celebrate the strength found in our collective spirit and enjoy a
 n evening of togetherness.\n\nThe bake will be led by TanenbaumCHAT Jewish
  studies teacher Jody Berkel\, who will guide us through the experience an
 d explore the activity's spiritual side. We will also...
DTSTART;TZID=America/Toronto:20240125T190000
DTEND;TZID=America/Toronto:20240125T213000
END:VEVENT
END:VCALENDAR
