BEGIN:VCALENDAR
PRODID:-//eluceo/ical//2.0/EN
VERSION:2.0
CALSCALE:GREGORIAN
BEGIN:VEVENT
UID:79bdb63cdb0c44192c83977537ab3cbb
DTSTAMP:20260423T155741Z
SUMMARY:Chai-Tikvah Foundation's 4th Annual Dinner Gala and Silent Auction
DESCRIPTION:UJA Federation of Greater Toronto\nJewish Toronto Calendar\nhtt
 ps://jewishtoronto.com/calendar/chai-tikvah-foundations-4th-annual-dinner-
 gala-and-silent-auction-1488916042\n\nThe Chai Tikvah / The Life and Hope 
 Foundation is hosting our fourth annual gala dinner and auction on Thursda
 y\, 25 May\, 2017 at District Oven restaurant in Toronto\, starting at 6:3
 0 p.m.!District Oven restaurant is located at 842 College St\; Toronto\, O
 N\; M6H 1A2. Our guest speaker this year is Canadian boxing legend and mot
 ivational speaker George Chuvalo\, who the great Muhammad Ali said was “
 the toughest guy I ever fought\,” to the Toronto Star in 1966.In case yo
 u are not aware\, Chai-Tik...
DTSTART;TZID=America/Toronto:20170525T183000
DTEND;TZID=America/Toronto:20170525T223000
END:VEVENT
END:VCALENDAR
