BEGIN:VCALENDAR
PRODID:-//eluceo/ical//2.0/EN
VERSION:2.0
CALSCALE:GREGORIAN
BEGIN:VEVENT
UID:16817396855a2b8c34e0a859929c1144
DTSTAMP:20260426T025228Z
SUMMARY:Chai Tea in Concert with pianist Shoshana Telner
DESCRIPTION:UJA Federation of Greater Toronto\nJewish Toronto Calendar\nhtt
 ps://jewishtoronto.com/calendar/chai-tea-in-concert-with-pianist-shoshana-
 telner-1671724560\n\nJoin CHW Toronto L&#039\;Netzach Chapter on Sunday\, 
 February 5\, 2023 ET for the inspiring Chai Tea in Concert with pianist Sh
 oshana Telner. Shoshana will serenade us with musical themes of love and r
 omance. Tickets start at $36
DTSTART;TZID=America/Toronto:20230205T141500
DTEND;TZID=America/Toronto:20230205T161500
END:VEVENT
END:VCALENDAR
