BEGIN:VCALENDAR
PRODID:-//eluceo/ical//2.0/EN
VERSION:2.0
CALSCALE:GREGORIAN
BEGIN:VEVENT
UID:a8525284b140154b7a55d2792ce0bb57
DTSTAMP:20260420T235832Z
SUMMARY:Chai Tea Film Event: Incitement
DESCRIPTION:UJA Federation of Greater Toronto\nJewish Toronto Calendar\nhtt
 ps://jewishtoronto.com/calendar/chai-tea-film-event-incitement-1580140372\
 n\nThe Toronto Jewish Film Foundation presents....\n\nChai Tea Event: Inci
 tement\n\n \n\nIsrael’s submission for the 2020 Academy Award for Best 
 International Feature Film.\n\nA bold and critically-acclaimed historical 
 drama about the radicalization of Yigal Amir\, the assassin of Israeli Pri
 me Minister Yitzhak Rabin. Director Yaron Zilberman (Watermarks) and write
 r Ron Leshem (Beaufort) show Amir’s descent from law student to ultranat
 ionalist. A gripping and unnerving look at the murderer...
DTSTART;TZID=America/Toronto:20200223T120000
DTEND;TZID=America/Toronto:20200223T160000
END:VEVENT
END:VCALENDAR
