BEGIN:VCALENDAR
PRODID:-//eluceo/ical//2.0/EN
VERSION:2.0
CALSCALE:GREGORIAN
BEGIN:VEVENT
UID:cd0486910f4dfc5884b7a7ee15c332d8
DTSTAMP:20260422T143704Z
SUMMARY:CHAI TEA FILM EVENT: Fanny's Journey
DESCRIPTION:UJA Federation of Greater Toronto\nJewish Toronto Calendar\nhtt
 ps://jewishtoronto.com/calendar/chai-tea-film-event-fannys-journey-1484668
 674\n\nFanny's Journey / Le voyage de FannyFrance 2016\, 94 min French wit
 h English subtitles Director: Lola Doillon“A handsome\, compelling perio
 d piece that deftly portrays events through the eyes of its young protagon
 ists.” – (Variety)An incredible tale of bravery\, strength and surviva
 l\, based on the true story of Fanny Ben-Ami. In 1943\, 13-year old Fanny 
 and her younger sister are sent from their home in France to an Italian fo
 ster home for Jewish children. However\, they are left and alone a...
DTSTART;TZID=America/Toronto:20170219T130000
DTEND;TZID=America/Toronto:20170219T160000
END:VEVENT
END:VCALENDAR
