BEGIN:VCALENDAR
PRODID:-//eluceo/ical//2.0/EN
VERSION:2.0
CALSCALE:GREGORIAN
BEGIN:VEVENT
UID:ff4c715709ba10606aef22319902b0eb
DTSTAMP:20260421T151821Z
SUMMARY:Chai Tea Event: Redemption
DESCRIPTION:UJA Federation of Greater Toronto\nJewish Toronto Calendar\nhtt
 ps://jewishtoronto.com/calendar/chai-tea-event-redemption\n\nFrom the dire
 ctor of Restoration (TJFF 2011)\, comes the Audience Award-winner at the 2
 018 Jerusalem Film Festival. Menachem\, a former frontman for a rock band\
 , is now religious and father to a six-year-old. When his daughter becomes
  ill\, he must find a creative solution to pay her medical bills. So he re
 unites his band for one last tour. The journey to save his daughter expose
 s old wounds and allows him to reconnect with his secular past. A wonderfu
 l film that boasts a terrific soundtrack.\n...
DTSTART;TZID=America/Toronto:20181209T130000
DTEND;TZID=America/Toronto:20181209T150000
END:VEVENT
END:VCALENDAR
