BEGIN:VCALENDAR
PRODID:-//eluceo/ical//2.0/EN
VERSION:2.0
CALSCALE:GREGORIAN
BEGIN:VEVENT
UID:6c23d1d8bc5965d4148721b594b22b36
DTSTAMP:20260422T205233Z
SUMMARY:Chai Society Tu B’Shevat Seder With Guest Rabbi Janice Elster
DESCRIPTION:UJA Federation of Greater Toronto\nJewish Toronto Calendar\nhtt
 ps://jewishtoronto.com/calendar/chai-society-tu-bshevat-seder-with-guest-r
 abbi-janice-elster\n\nCelebrate the fruits of Israel with this fun\, inter
 active seder and delicious lunch.\n\nRegistration is required.  $10 per p
 erson.
DTSTART;TZID=America/Toronto:20150204T120000
DTEND;TZID=America/Toronto:20150205T070000
END:VEVENT
END:VCALENDAR
