BEGIN:VCALENDAR
PRODID:-//eluceo/ical//2.0/EN
VERSION:2.0
CALSCALE:GREGORIAN
BEGIN:VEVENT
UID:b975ecac0c1a147388cc1c87428b4e14
DTSTAMP:20260425T202535Z
SUMMARY:Chai Lifeline Canada Night of Magic
DESCRIPTION:UJA Federation of Greater Toronto\nJewish Toronto Calendar\nhtt
 ps://jewishtoronto.com/calendar/chai-lifeline-canada-night-of-magic-151128
 9681\n\nChai Lifeline Canada's Annual Gala faeturing Mentalists and magica
 l performances
DTSTART;TZID=America/Toronto:20180314T190000
DTEND;TZID=America/Toronto:20180314T230000
END:VEVENT
END:VCALENDAR
