BEGIN:VCALENDAR
PRODID:-//eluceo/ical//2.0/EN
VERSION:2.0
CALSCALE:GREGORIAN
BEGIN:VEVENT
UID:c6e66aff784c73c5d4cff08a2dc6f768
DTSTAMP:20260421T222625Z
SUMMARY:Chabad of Markham Games Afternoon
DESCRIPTION:UJA Federation of Greater Toronto\nJewish Toronto Calendar\nhtt
 ps://jewishtoronto.com/calendar/chabad-of-markham-games-afternoon-14908429
 13\n\nGames afternoon for Chabad of Markham - Green Lane 
DTSTART;TZID=America/Toronto:20170423T140000
DTEND;TZID=America/Toronto:20170423T170000
END:VEVENT
END:VCALENDAR
