BEGIN:VCALENDAR
PRODID:-//eluceo/ical//2.0/EN
VERSION:2.0
CALSCALE:GREGORIAN
BEGIN:VEVENT
UID:e4cb78e214b4c0d1e92d4b899a4585ac
DTSTAMP:20260421T062518Z
SUMMARY:Chabad Israeli Community Centre 14th Annual Spirit of Community Din
 ner
DESCRIPTION:UJA Federation of Greater Toronto\nJewish Toronto Calendar\nhtt
 ps://jewishtoronto.com/calendar/chabad-israeli-community-centre-14th-annua
 l-spirit-of-community-dinner-1486482558\n\nThis is our 14th Annual Spirit 
 of Community Dinner\, honouring Wayne Emmerson\, Chairman & CEO\, Regional
  Municipality of York and Dr. Zion Sasson\, M.D.\, F.R.C.P.(C). The event 
 will be a dinner and concert.
DTSTART;TZID=America/Toronto:20170529T170000
DTEND;TZID=America/Toronto:20170529T223000
END:VEVENT
END:VCALENDAR
