BEGIN:VCALENDAR
PRODID:-//eluceo/ical//2.0/EN
VERSION:2.0
CALSCALE:GREGORIAN
BEGIN:VEVENT
UID:e6a1c3d7c1eb9aa522943a96fd934b13
DTSTAMP:20260419T124506Z
SUMMARY:Chabad Flamingo presents "Souls on Fire"
DESCRIPTION:UJA Federation of Greater Toronto\nJewish Toronto Calendar\nhtt
 ps://jewishtoronto.com/calendar/chabad-flamingo-presents-souls-on-fire-152
 7517784\n\nAn Evening of Insight and Inspiration honouring the Rebbe's Yah
 rtzeit- Hilulah \, featuring Rabbi Moshe J. Kotlarsky\, Chabad's Globetrot
 ting Secretary of State.\nWines and Spirits\, Viennese Desserst Table\nThe
 re is no charge for this event
DTSTART;TZID=America/Toronto:20180611T200000
DTEND;TZID=America/Toronto:20180611T220000
END:VEVENT
END:VCALENDAR
