BEGIN:VCALENDAR
PRODID:-//eluceo/ical//2.0/EN
VERSION:2.0
CALSCALE:GREGORIAN
BEGIN:VEVENT
UID:23299b288c43fb39737b680ddea35592
DTSTAMP:20260420T085738Z
SUMMARY:Chabad Flamingo Bat Mitzvah Club Celebration Dinner
DESCRIPTION:UJA Federation of Greater Toronto\nJewish Toronto Calendar\nhtt
 ps://jewishtoronto.com/calendar/chabad-flamingo-bat-mitzvah-club-celebrati
 on-dinner-1457102817\n\nChabad Flamingo Bat Mitzvah Graduation
DTSTART;TZID=America/Toronto:20160609T174500
DTEND;TZID=America/Toronto:20160609T230000
END:VEVENT
END:VCALENDAR
