BEGIN:VCALENDAR
PRODID:-//eluceo/ical//2.0/EN
VERSION:2.0
CALSCALE:GREGORIAN
BEGIN:VEVENT
UID:bd7da241c20eefa8ddd8b2e0ad2fb226
DTSTAMP:20260423T003512Z
SUMMARY:CFYU Community Lecture with R' Meir Soloveitchik
DESCRIPTION:UJA Federation of Greater Toronto\nJewish Toronto Calendar\nhtt
 ps://jewishtoronto.com/calendar/cfyu-community-lecture-with-r-meir-solovei
 tchik-1467309888\n\nRabbi Meir Soloveitchik will give a pre-Rosh HaShannah
  lecture on behalf of Canadian Friends of Yeshiva University.
DTSTART;TZID=America/Toronto:20160925T190000
DTEND;TZID=America/Toronto:20160925T200000
END:VEVENT
END:VCALENDAR
