BEGIN:VCALENDAR
PRODID:-//eluceo/ical//2.0/EN
VERSION:2.0
CALSCALE:GREGORIAN
BEGIN:VEVENT
UID:8e1ac60bd57d1a63dfdf2861db7386b2
DTSTAMP:20260422T010143Z
SUMMARY:CFOBIS Kicking for Kids Soccerthon
DESCRIPTION:UJA Federation of Greater Toronto\nJewish Toronto Calendar\nhtt
 ps://jewishtoronto.com/calendar/cfobis-kicking-for-kids-soccerthon-1572973
 379\n\nJoin Canadian Friends of Beit Issie Shapiro for our 10th annual Soc
 certhon\, supporting kids with disabilities at Beit Issie Shapiro in Israe
 l. Kicking for Kids is a 6-a-side friendly indoor soccer tournament. We ha
 ve a Kids tournament in the morning and an Adult tournament in the afterno
 on + much more... Silent auction\, Prizes\, Zalmy Plotkin (z"l) Inclusive 
 Kids Zone\, Food\, a great family fun day!
DTSTART;TZID=America/Toronto:20200503T100000
DTEND;TZID=America/Toronto:20200503T163000
END:VEVENT
END:VCALENDAR
