BEGIN:VCALENDAR
PRODID:-//eluceo/ical//2.0/EN
VERSION:2.0
CALSCALE:GREGORIAN
BEGIN:VEVENT
UID:6d9f12aeeee8a55df6dbb12556049f8a
DTSTAMP:20260419T230850Z
SUMMARY:CFHU Virtual Event
DESCRIPTION:UJA Federation of Greater Toronto\nJewish Toronto Calendar\nhtt
 ps://jewishtoronto.com/calendar/cfhu-virtual-event-1597083308\n\nCanadian 
 Friends of Hebrew University Virtual Event
DTSTART;TZID=America/Toronto:20201018T130000
DTEND;TZID=America/Toronto:20201018T140000
END:VEVENT
END:VCALENDAR
