BEGIN:VCALENDAR
PRODID:-//eluceo/ical//2.0/EN
VERSION:2.0
CALSCALE:GREGORIAN
BEGIN:VEVENT
UID:b9dd61cb01123df33c6ce4570d493931
DTSTAMP:20260422T094637Z
SUMMARY:CFBIU Outstanding Personalities Webinar Series with Dr. Omry Koren
DESCRIPTION:UJA Federation of Greater Toronto\nJewish Toronto Calendar\nhtt
 ps://jewishtoronto.com/calendar/cfbiu-outstanding-personalities-webinar-se
 ries-1770820385\n\nJoin Bar-Ilan Professor Omry Koren to discover how tr
 illions of tiny microbes in our gut could be the key to mental well-being\
 , physical health\, and even the prevention of chronic disease.\n\nClick h
 ere to register. 
DTSTART;TZID=America/Toronto:20260310T123000
DTEND;TZID=America/Toronto:20260310T133000
END:VEVENT
END:VCALENDAR
