BEGIN:VCALENDAR
PRODID:-//eluceo/ical//2.0/EN
VERSION:2.0
CALSCALE:GREGORIAN
BEGIN:VEVENT
UID:9729b19a9fc000e6a8b877aab4d81e85
DTSTAMP:20260419T220758Z
SUMMARY:Centennial Campaign Executive Cabinet Meeting
DESCRIPTION:UJA Federation of Greater Toronto\nJewish Toronto Calendar\nhtt
 ps://jewishtoronto.com/calendar/centennial-campaign-executive-cabinet-meet
 ing-march-8-2016\n\nBeth Tzedec Synagogue\n\n 
DTSTART;TZID=America/Toronto:20160308T161500
DTEND;TZID=America/Toronto:20160308T181500
END:VEVENT
END:VCALENDAR
