BEGIN:VCALENDAR
PRODID:-//eluceo/ical//2.0/EN
VERSION:2.0
CALSCALE:GREGORIAN
BEGIN:VEVENT
UID:6ee43464a825ba1fb256c38f388e3d82
DTSTAMP:20260424T100031Z
SUMMARY:UJA Centennial Campaign Executive Cabinet Meeting
DESCRIPTION:UJA Federation of Greater Toronto\nJewish Toronto Calendar\nhtt
 ps://jewishtoronto.com/calendar/centennial-campaign-executive-cabinet-meet
 ing-decemer-7-2016\n\nBeth Tzedec Congregation
DTSTART;TZID=America/Toronto:20161207T161500
DTEND;TZID=America/Toronto:20161207T181500
END:VEVENT
END:VCALENDAR
