BEGIN:VCALENDAR
PRODID:-//eluceo/ical//2.0/EN
VERSION:2.0
CALSCALE:GREGORIAN
BEGIN:VEVENT
UID:24ef7dcbd8bc8152a57d339f554e65d7
DTSTAMP:20260421T105136Z
SUMMARY:Celebrating Shabbat in Song with Cantor David Edwards
DESCRIPTION:UJA Federation of Greater Toronto\nJewish Toronto Calendar\nhtt
 ps://jewishtoronto.com/calendar/celebrating-shabbat-in-song-with-cantor-da
 vid-edwards-1526056288\n\nRead Cantor David Edwards' bio here: http://mnjc
 c.org/browse-by-age/seniors/jewish-holidays/902-shabbat-in-song.html
DTSTART;TZID=America/Toronto:20180525T123000
DTEND;TZID=America/Toronto:20180525T143000
END:VEVENT
END:VCALENDAR
