BEGIN:VCALENDAR
PRODID:-//eluceo/ical//2.0/EN
VERSION:2.0
CALSCALE:GREGORIAN
BEGIN:VEVENT
UID:d2bc2539dddb74407c35c5c16ceb6f38
DTSTAMP:20260426T000133Z
SUMMARY:Celebrating Shabbat in Song
DESCRIPTION:UJA Federation of Greater Toronto\nJewish Toronto Calendar\nhtt
 ps://jewishtoronto.com/calendar/celebrating-shabbat-in-song-1522951976\n\n
 We invite you to celebrate Shabbat with us at our new Friday afternoon pro
 gram. Enjoy a Jewish-themed concert\, a participatory Shabbat ceremony\, a
 s well as traditional treats.Musical guest performer: Cantor Aaron Bensous
 san.\nTo register\, please call (416) 924-6211 x0. Admission is $5.00.\n\n
 Refreshments: 12:30 pm\nConcert and Shabbat Ceremony 1:00 - 2:30 pm\n\nSha
 bbat Shalom and Gut Shabbes!
DTSTART;TZID=America/Toronto:20180427T123000
DTEND;TZID=America/Toronto:20180427T143000
END:VEVENT
END:VCALENDAR
