BEGIN:VCALENDAR
PRODID:-//eluceo/ical//2.0/EN
VERSION:2.0
CALSCALE:GREGORIAN
BEGIN:VEVENT
UID:1e51df5a61497e5075510ec2cd5062c6
DTSTAMP:20260423T084923Z
SUMMARY:Celebrating Shabbat in Song 
DESCRIPTION:UJA Federation of Greater Toronto\nJewish Toronto Calendar\nhtt
 ps://jewishtoronto.com/calendar/celebrating-shabbat-in-song-1516376664\n\n
 With Isaac Muzikansky\nCelebrate Shabbat with a Jewish-themed concert\, S
 habbat ceremony and treats. 
DTSTART;TZID=America/Toronto:20180223T123000
DTEND;TZID=America/Toronto:20180223T140000
END:VEVENT
END:VCALENDAR
