BEGIN:VCALENDAR
PRODID:-//eluceo/ical//2.0/EN
VERSION:2.0
CALSCALE:GREGORIAN
BEGIN:VEVENT
UID:903c6bbfc43511b10ce75c87d490deb7
DTSTAMP:20260423T100652Z
SUMMARY:Celebrating Shabbat in Song
DESCRIPTION:UJA Federation of Greater Toronto\nJewish Toronto Calendar\nhtt
 ps://jewishtoronto.com/calendar/celebrating-shabbat-in-song-1505934275\n\n
 Guest musicians: Cantor Charles Osbourne\, accompanied by Susan Piltch o
 n keyboard.\nDoors open: 12:30pm \; Program: 1:00-2:30pm\nCelebrate Shabba
 t on Friday afternoons with a Jewish-themed concert\, Shabbat ceremony and
  treats.
DTSTART;TZID=America/Toronto:20171027T130000
DTEND;TZID=America/Toronto:20171027T143000
END:VEVENT
END:VCALENDAR
