BEGIN:VCALENDAR
PRODID:-//eluceo/ical//2.0/EN
VERSION:2.0
CALSCALE:GREGORIAN
BEGIN:VEVENT
UID:53a324cb828e01a2b1f2567bb02e858b
DTSTAMP:20260420T131818Z
SUMMARY:Celebrating Five Volumes of Living Legacies
DESCRIPTION:UJA Federation of Greater Toronto\nJewish Toronto Calendar\nhtt
 ps://jewishtoronto.com/calendar/celebrating-five-volumes-of-living-legacie
 s-1475259674\n\nMeet editor Liz Pearl and enjoy readings of personal narra
 tives by contemporary Canadian Jewish women.\nRefreshments: 1:00 pm\; Prog
 ram: 1:30 - 3:00 pm\nDrop in: $4
DTSTART;TZID=America/Toronto:20161020T130000
DTEND;TZID=America/Toronto:20161020T153000
END:VEVENT
END:VCALENDAR
