BEGIN:VCALENDAR
PRODID:-//eluceo/ical//2.0/EN
VERSION:2.0
CALSCALE:GREGORIAN
BEGIN:VEVENT
UID:dfe10f1c2e3eabbb0e946a9a1ea59919
DTSTAMP:20260421T165849Z
SUMMARY:Celebrating Courage with Beit Halochem's Contemporary Committee
DESCRIPTION:UJA Federation of Greater Toronto\nJewish Toronto Calendar\nhtt
 ps://jewishtoronto.com/calendar/celebrating-courage-with-beit-halochems-co
 ntemporary-committee-1487259446\n\nAnnual Young Professionals Cocktail Par
 ty\nCelebrate a night of courage supporting Israel’s Injured Heroes\nPre
 sented by Beit Halochem’s Contemporary Committee
DTSTART;TZID=America/Toronto:20170511T200000
DTEND;TZID=America/Toronto:20170511T220000
END:VEVENT
END:VCALENDAR
