BEGIN:VCALENDAR
PRODID:-//eluceo/ical//2.0/EN
VERSION:2.0
CALSCALE:GREGORIAN
BEGIN:VEVENT
UID:2c982070ab33c08a107fcb7ac3942a3a
DTSTAMP:20260424T115932Z
SUMMARY:Celebrate Shabbat Shirah at Beth Tzedec - Echoes of Sefarad
DESCRIPTION:UJA Federation of Greater Toronto\nJewish Toronto Calendar\nhtt
 ps://jewishtoronto.com/calendar/celebrate-shabbat-shirah-at-beth-tzedec---
 echoes-of-sefarad-1547009660\n\nA Couscous Kabbalat Shabbat with guest Haz
 zan Dr. Ramon Tasat and Hazzan Sidney Ezer . A unique experience featuring
  the nusah and melodies of the Jews of Morocco. Service begins at 4:50 pm 
 followed by a scrumptious Moroccan-themed Shabbat dinner during which Dr. 
 Tasat will present Exotic Rhythms: The Music of the Eastern Sephardic Jews
 .\n\nCost: $40 adults\; $21 young adults (under 40)\; $18 youth (ages 5-14
 )\; $6 children (ages 1-4). RSVPs required by Monday\, January 14.\n\n 
DTSTART;TZID=America/Toronto:20190118T165000
DTEND;TZID=America/Toronto:20190118T213000
END:VEVENT
END:VCALENDAR
