BEGIN:VCALENDAR
PRODID:-//eluceo/ical//2.0/EN
VERSION:2.0
CALSCALE:GREGORIAN
BEGIN:VEVENT
UID:d34848c0cfaad66468b9a3cf8d8c3e24
DTSTAMP:20260419T192546Z
SUMMARY:Celebrate Israel
DESCRIPTION:UJA Federation of Greater Toronto\nJewish Toronto Calendar\nhtt
 ps://jewishtoronto.com/calendar/celebrate-israel-1491270510\n\nPlease join
  Associated\, Bialik\, Leo Baeck and PJ Library as we Celebrate Israel! Ch
 ildren aged 2-5 are invited to dress in blue and white and celebrate with 
 us!
DTSTART;TZID=America/Toronto:20170507T100000
DTEND;TZID=America/Toronto:20170507T113000
END:VEVENT
END:VCALENDAR
