BEGIN:VCALENDAR
PRODID:-//eluceo/ical//2.0/EN
VERSION:2.0
CALSCALE:GREGORIAN
BEGIN:VEVENT
UID:1f75c17933d2aae7b307b7727da868b6
DTSTAMP:20260424T110152Z
SUMMARY:Canadian Shaare Zedek Hospital State of the Art
DESCRIPTION:UJA Federation of Greater Toronto\nJewish Toronto Calendar\nhtt
 ps://jewishtoronto.com/calendar/cdn-shaare-zedek-hospital-state-ofthe-art-
 june-9\n\nA chance for young professionals to network and learn more about
  some of the exclusive art collections across the city. Limited number of 
 spots available. Proceeds in support of the Wilf Children's Hospital at th
 e Shaare Zedek Medical Center in Jerusalem.\n\nFees: $ 18.00 - Couvert
DTSTART;TZID=America/Toronto:20140609T183000
DTEND;TZID=America/Toronto:20140609T223000
END:VEVENT
END:VCALENDAR
