BEGIN:VCALENDAR
PRODID:-//eluceo/ical//2.0/EN
VERSION:2.0
CALSCALE:GREGORIAN
BEGIN:VEVENT
UID:b9e379599c091f3ff32e25b1952bce3c
DTSTAMP:20260421T150411Z
SUMMARY:Canadian Shaare Zedek Hospital State of the Art
DESCRIPTION:UJA Federation of Greater Toronto\nJewish Toronto Calendar\nhtt
 ps://jewishtoronto.com/calendar/cdn-shaare-zedek-hospital-state-ofthe-art-
 june-25\n\nA chance for young professionals to network and learn more abou
 t some of the exclusive art collections across the city. Limited number of
  spots available. Proceeds in support of the Wilf Children's Hospital at t
 he Shaare Zedek Medical Center in Jerusalem.\n\nFees: $ 18.00 - Couvert
DTSTART;TZID=America/Toronto:20140625T183000
DTEND;TZID=America/Toronto:20140625T213000
END:VEVENT
END:VCALENDAR
