BEGIN:VCALENDAR
PRODID:-//eluceo/ical//2.0/EN
VERSION:2.0
CALSCALE:GREGORIAN
BEGIN:VEVENT
UID:adb40c49122aff35f1a674b70fe1789a
DTSTAMP:20260419T170844Z
SUMMARY:Cdn Friends of Shalva's A Virtual\, Mexican Inspired Dining Experie
 nce
DESCRIPTION:UJA Federation of Greater Toronto\nJewish Toronto Calendar\nhtt
 ps://jewishtoronto.com/calendar/cdn-friends-of-shalvas-a-virtual-mexican-i
 nspired-dining-experience-1622224078\n\nFeatures Chef David Jiminez  form 
 El Catrine Distileria\n\nKashrut laws will apply.\n\n
DTSTART;TZID=America/Toronto:20210623T180000
DTEND;TZID=America/Toronto:20210623T200000
END:VEVENT
END:VCALENDAR
