BEGIN:VCALENDAR
PRODID:-//eluceo/ical//2.0/EN
VERSION:2.0
CALSCALE:GREGORIAN
BEGIN:VEVENT
UID:f131a44153ca86d531128a228305f46a
DTSTAMP:20260421T153212Z
SUMMARY:Cavalcade of Stars: 25th Anniversary
DESCRIPTION:UJA Federation of Greater Toronto\nJewish Toronto Calendar\nhtt
 ps://jewishtoronto.com/calendar/cavalcade-of-stars-25th-anniversary-155265
 9277\n\nShaarei Shomayim Entertainment & Cultural Committee and Jews for J
 udaism present: Cavalcade of Stars' 25th Anniversary. Featuring: The Benam
 i Band\, The Shul of Rock\, and many more! $25/person\; $39/couple.
DTSTART;TZID=America/Toronto:20190331T183000
DTEND;TZID=America/Toronto:20190331T213000
END:VEVENT
END:VCALENDAR
