BEGIN:VCALENDAR
PRODID:-//eluceo/ical//2.0/EN
VERSION:2.0
CALSCALE:GREGORIAN
BEGIN:VEVENT
UID:24ed3c8dcfdcff27a9b9bf64fa75705e
DTSTAMP:20260422T224039Z
SUMMARY:Casino Night in Support of Mount Sinai Hospital
DESCRIPTION:UJA Federation of Greater Toronto\nJewish Toronto Calendar\nhtt
 ps://jewishtoronto.com/calendar/casino-night-in-support-of-mount-sinai-hos
 pital-1450818608\n\nCocktail Style Event featuring live entertainment and 
 Vegas casino games in support of the Zane Cohen Centre for Digestive Disea
 se at Mount Sinai Hospital.
DTSTART;TZID=America/Toronto:20160921T190000
DTEND;TZID=America/Toronto:20160921T233000
END:VEVENT
END:VCALENDAR
