BEGIN:VCALENDAR
PRODID:-//eluceo/ical//2.0/EN
VERSION:2.0
CALSCALE:GREGORIAN
BEGIN:VEVENT
UID:b53d23c00f8a12c7e7e0a9163da0290c
DTSTAMP:20260423T145900Z
SUMMARY:Carlebach Classics -  Beth Tikvah Gala Concert for Jewish Music Wee
 k
DESCRIPTION:UJA Federation of Greater Toronto\nJewish Toronto Calendar\nhtt
 ps://jewishtoronto.com/calendar/carlebach-classics-beth-tikvah--gala-conce
 rt-for-jewish-music-week-1489069402\n\nIf you love the Music of Rav Shlomo
  Carlebach and appreciate Classical Music\, our Gala Concert\, part of Je
 wish Music Week in Toronto\, will provide a perfect blend of both! Enjoy w
 ell-known favourites performed with guitar accompaniment in the traditi
 onal `kumsitz`style that Carlebach made famous\, along with brand new ar
 rangements of\nhis rich melodies for orchestra and  choir.  Help us cel
 ebrate the 40th anniversary of the Carlebach classic anthem Am Yisrael C
 hai with the spirit in...
DTSTART;TZID=America/Toronto:20170523T193000
DTEND;TZID=America/Toronto:20170523T213000
END:VEVENT
END:VCALENDAR
