BEGIN:VCALENDAR
PRODID:-//eluceo/ical//2.0/EN
VERSION:2.0
CALSCALE:GREGORIAN
BEGIN:VEVENT
UID:d07bc254dd8f0059d68c46a95e5b68e2
DTSTAMP:20260420T085733Z
SUMMARY:Caregivers Connect with Rabbi Fryer Bodzin
DESCRIPTION:UJA Federation of Greater Toronto\nJewish Toronto Calendar\nhtt
 ps://jewishtoronto.com/calendar/caregivers-connect-with-rabbi-fryer-bodzin
 -1614048527\n\nRabbi Fryer Bodzin will be beginning a new series for famil
 y caregivers. Caregivers Connect will be an opportunity for individuals wh
 o have been unable to see loved ones\, or with relatives in Long Term Care
  homes to connect with others and share their experiences. 
DTSTART;TZID=America/Toronto:20210311T194500
DTEND;TZID=America/Toronto:20210311T210000
END:VEVENT
END:VCALENDAR
