BEGIN:VCALENDAR
PRODID:-//eluceo/ical//2.0/EN
VERSION:2.0
CALSCALE:GREGORIAN
BEGIN:VEVENT
UID:f0b3273bbb68945230299960f41e8c75
DTSTAMP:20260421T181637Z
SUMMARY:Care for the Caregivers (Beth Tikvah Synagogue)
DESCRIPTION:UJA Federation of Greater Toronto\nJewish Toronto Calendar\nhtt
 ps://jewishtoronto.com/calendar/care-for-the-caregivers-beth-tikvah-synago
 gue-1460126258\n\nMembers–No Charge\nNon-Members–$5.00\n\nRSVP REQUIRE
 D\nCall: 416-221-3433\n\n \n\nDr. Nasreen Khatri\, guest speaker\, is a r
 egistered clinical psychologist specializing in the assessment\, treatment
  and research of mood and anxiety disorders. Completing her clinical inter
 nship post-doctorate at CAMH\, Dr. Khatri led the Mood and Related Disorde
 rs Clinic from 2004 to 2012 and founded the Cognitive Behaviour Therapy se
 rvice at Baycrest. In 2012\, she joined the Rotman Research Institute wher
 e ...
DTSTART;TZID=America/Toronto:20160526T100000
DTEND;TZID=America/Toronto:20160526T120000
END:VEVENT
END:VCALENDAR
