BEGIN:VCALENDAR
PRODID:-//eluceo/ical//2.0/EN
VERSION:2.0
CALSCALE:GREGORIAN
BEGIN:VEVENT
UID:f25ed9979f7fe73ae4fc667cad7f27d4
DTSTAMP:20260420T145737Z
SUMMARY:Temple Sinai - Cards on the Table! It’s Next Generation Poker Nig
 ht
DESCRIPTION:UJA Federation of Greater Toronto\nJewish Toronto Calendar\nhtt
 ps://jewishtoronto.com/calendar/cards-on-the-table-its-next-generation-pok
 er-night-1476977386\n\n\n
DTSTART;TZID=America/Toronto:20161124T193000
DTEND;TZID=America/Toronto:20161124T220000
END:VEVENT
END:VCALENDAR
