BEGIN:VCALENDAR
PRODID:-//eluceo/ical//2.0/EN
VERSION:2.0
CALSCALE:GREGORIAN
BEGIN:VEVENT
UID:20d663b250ffd743d1bdb69e077c9f89
DTSTAMP:20260422T102027Z
SUMMARY:Canadian Society for Yad Vashem Yizkor Community Ceremony 
DESCRIPTION:UJA Federation of Greater Toronto\nJewish Toronto Calendar\nhtt
 ps://jewishtoronto.com/calendar/canadian-society-for-yad-vashem-yizkor-com
 munity-ceremony\n\nCanadian Society for Yad Vashem Yizkor Community Ceremo
 ny to commemorate the victims of the Holocaust\n\nUnveiling of the Refurbi
 shed Canadian Society for Yad Vashem Holocaust Memorial Site at Earl Bales
  Park
DTSTART;TZID=America/Toronto:20151004T103000
DTEND;TZID=America/Toronto:20151004T123000
END:VEVENT
END:VCALENDAR
