BEGIN:VCALENDAR
PRODID:-//eluceo/ical//2.0/EN
VERSION:2.0
CALSCALE:GREGORIAN
BEGIN:VEVENT
UID:548f0be1d96e6105090d387fdccd081e
DTSTAMP:20260423T233258Z
SUMMARY:Canadian Society for Yad Vashem Dinner
DESCRIPTION:UJA Federation of Greater Toronto\nJewish Toronto Calendar\nhtt
 ps://jewishtoronto.com/calendar/canadian-society-for-yad-vashem-dinner-145
 3243679\n\nFundraising dinner of the Canadian Society for Yad Vashem
DTSTART;TZID=America/Toronto:20160509T170000
DTEND;TZID=America/Toronto:20160509T220000
END:VEVENT
END:VCALENDAR
