BEGIN:VCALENDAR
PRODID:-//eluceo/ical//2.0/EN
VERSION:2.0
CALSCALE:GREGORIAN
BEGIN:VEVENT
UID:bbe57bf1d65f1c277e8603dbc89f9e76
DTSTAMP:20260419T222317Z
SUMMARY:Canadian premiere of Lidarti’s Oratorio Ester (1774) at the Kie
 ver Shul
DESCRIPTION:UJA Federation of Greater Toronto\nJewish Toronto Calendar\nhtt
 ps://jewishtoronto.com/calendar/canadian-premiere-of-lidartisoratorio-este
 r1774-at-the-kiever-shul-1770324062\n\nCOSA Canada and the Kiever Synagogu
 e are proud to present CG Lidarti and Rabbi JR Saraval's Canadian premiere
  of ESTER (1774) A Purim Oratorio.\n\nPresented in Hebrew with English tex
 t provided.
DTSTART;TZID=America/Toronto:20260301T160000
DTEND;TZID=America/Toronto:20260301T180000
END:VEVENT
END:VCALENDAR
