BEGIN:VCALENDAR
PRODID:-//eluceo/ical//2.0/EN
VERSION:2.0
CALSCALE:GREGORIAN
BEGIN:VEVENT
UID:7a8312e695e91b353eec280df728535e
DTSTAMP:20260420T060251Z
SUMMARY:Canadian Premiere of "A Heartbeat Away"
DESCRIPTION:UJA Federation of Greater Toronto\nJewish Toronto Calendar\nhtt
 ps://jewishtoronto.com/calendar/canadian-premiere-of-a-heartbeat-away-1458
 134862\n\nCanada Square Complex (2300 Yonge Street)\n7:00pm pre-reception\
 n7:30pm screening\nTickets can be purchased beginning Monday\, March 28
DTSTART;TZID=America/Toronto:20160502T190000
DTEND;TZID=America/Toronto:20160502T220000
END:VEVENT
END:VCALENDAR
