BEGIN:VCALENDAR
PRODID:-//eluceo/ical//2.0/EN
VERSION:2.0
CALSCALE:GREGORIAN
BEGIN:VEVENT
UID:9abfa2fad168d4fbb699a25b1c408883
DTSTAMP:20260422T110959Z
SUMMARY:Canadian Magen David Adom - The First Seven Minutes
DESCRIPTION:UJA Federation of Greater Toronto\nJewish Toronto Calendar\nhtt
 ps://jewishtoronto.com/calendar/canadian-magen-david-adom-the-first-seven-
 minutes\n\nCommunity Emergency Medical Response Training\n\nWhat is it?\nA
  seminar on community preparedness and response training for mass casualty
  incidents and disaster events.\n\nWhat does it include?\nAn educational l
 ecture with hands-on demonstrations meant to give proper training to commu
 nity members in preparation for various types of large-scale medical emerg
 encies.
DTSTART;TZID=America/Toronto:20190207T193000
DTEND;TZID=America/Toronto:20190207T213000
END:VEVENT
END:VCALENDAR
