BEGIN:VCALENDAR
PRODID:-//eluceo/ical//2.0/EN
VERSION:2.0
CALSCALE:GREGORIAN
BEGIN:VEVENT
UID:81ea938d3a6fa84a15cf7afb8217d184
DTSTAMP:20260424T020218Z
SUMMARY:Canadian Magen David Adom - Toronto Chapter
DESCRIPTION:UJA Federation of Greater Toronto\nJewish Toronto Calendar\nhtt
 ps://jewishtoronto.com/calendar/canadian-magen-david-adom---toronto-chapte
 r-1524777618\n\nCaptivating entertainment and reception Fundraising evenin
 g for Israel's new Blood Bank Centre
DTSTART;TZID=America/Toronto:20181108T183000
DTEND;TZID=America/Toronto:20181109T213000
END:VEVENT
END:VCALENDAR
