BEGIN:VCALENDAR
PRODID:-//eluceo/ical//2.0/EN
VERSION:2.0
CALSCALE:GREGORIAN
BEGIN:VEVENT
UID:55710c06963ffed05f4576115db83886
DTSTAMP:20260421T080938Z
SUMMARY:Canadian Magen David Adom - Central Region
DESCRIPTION:UJA Federation of Greater Toronto\nJewish Toronto Calendar\nhtt
 ps://jewishtoronto.com/calendar/canadian-magen-david-adom---central-region
 -1611596912\n\nCelebrating the amazing achievements of Israel's sole natio
 nal emergency and blood-services organization
DTSTART;TZID=America/Toronto:20211028T180000
DTEND;TZID=America/Toronto:20211028T230000
END:VEVENT
END:VCALENDAR
