BEGIN:VCALENDAR
PRODID:-//eluceo/ical//2.0/EN
VERSION:2.0
CALSCALE:GREGORIAN
BEGIN:VEVENT
UID:34cbb558f1aadddc064a005d8077d4a6
DTSTAMP:20260421T092925Z
SUMMARY:Canadian Jewish Playwriting Competition
DESCRIPTION:UJA Federation of Greater Toronto\nJewish Toronto Calendar\nhtt
 ps://jewishtoronto.com/calendar/canadian-jewish-playwriting-competition-14
 98250879\n\nCanadian Jewish Playwriting Competition 2017 Call for Submissi
 ons:\nThe Miles Nadal Jewish Community Centre in Toronto is accepting subm
 issions to The Canadian Jewish Playwriting Competition.\n\nThe submission 
 deadline is Tuesday July 5\, 2017. The 2017 winner of the Canadian Jewish 
 Playwriting Competition will be announced in January 2018. Prize includes 
 a 1 day workshop presentation and $1000 to the winning playwright. Thank y
 ou to the Asper Foundation for support of this program.
DTSTART;TZID=America/Toronto:20170705T090000
DTEND;TZID=America/Toronto:20170705T170000
END:VEVENT
END:VCALENDAR
